BEGIN:VCALENDAR
VERSION:2.0
PRODID:-//Full Bottle Pty Ltd - Event Espresso Version 3.1.36.5.P//NONSGML v1.0//EN
METHOD:PUBLISH
X-ORIGINAL-URL:http://fullbottle.net.au/events/?ee=95
X-WR-CALDESC:Full Bottle Pty Ltd
X-WR-TIMEZONE:Australia/Perth
BEGIN:VEVENT
DTSTAMP:20190227T025622
UID:cdr2ooscpd63bo0ojlak6bkq47-5c758b643b4d05.16123098@http://fullbottle.net.au/events/?ee=95
ORGANIZER:MAILTO:ed@fullbottle.net.au
DTSTART:19700101T080000
DTEND:19700101T080000
STATUS:CONFIRMED
URL:http://fullbottle.net.au/events/?ee=95
SUMMARY:WSET Level 1 Award in Wines- Tuesday 16th April 2019 -Perth CBD
LOCATION:Crnr. Adelaide Terrace/ Victoria Avenue Perth, WA Australia
END:VEVENT
END:VCALENDAR
