BEGIN:VCALENDAR
VERSION:2.0
PRODID:-//Full Bottle Pty Ltd - Event Espresso Version 3.1.36.5.P//NONSGML v1.0//EN
METHOD:PUBLISH
X-ORIGINAL-URL:http://fullbottle.net.au/events/?ee=105
X-WR-CALDESC:Full Bottle Pty Ltd
X-WR-TIMEZONE:Australia/Perth
BEGIN:VEVENT
DTSTAMP:20190227T025646
UID:cdr2ooscpd63bo0ojlak6bkq47-5c758b643b4d05.16123098@http://fullbottle.net.au/events/?ee=105
ORGANIZER:MAILTO:ed@fullbottle.net.au
DTSTART:19700101T080000
DTEND:19700101T080000
STATUS:CONFIRMED
URL:http://fullbottle.net.au/events/?ee=105
SUMMARY:WSET Lvl 3 Award in Wines - Mon 29th April- Daytime Course-East Fremantle
LOCATION:48 George Street East Fremantle, WA 6163 AUSTRALIA
END:VEVENT
END:VCALENDAR
